BEGIN:VCALENDAR
VERSION:2.0
PRODID:-//ChamberMaster//Event Calendar 2.0//EN
METHOD:PUBLISH
X-PUBLISHED-TTL:P3D
REFRESH-INTERVAL:P3D
CALSCALE:GREGORIAN
BEGIN:VEVENT
DTSTART:20201126T160000Z
DTEND:20201126T210000Z
X-MICROSOFT-CDO-ALLDAYEVENT:FALSE
SUMMARY:Thanksgiving Dinner at Veraisons Restaurant
DESCRIPTION:Join us at Veraisons for our inaugural Thanksgiving Day Dinner! We invite you and your family to celebrate with us and enjoy three courses of chef-inspired Thanksgiving classics - with vegan and vegetarian options available! You'll choose each course and enjoy all the flavors of the seasons with none of the stressful cleanup. A children's menu will also be available for those 12 and under with less adventurous\, more classic palates.\n\nNEW THIS YEAR!  Get your Thanksgiving meal TO GO! Available by pre-order through 11/23\, enjoy a chef prepared\, farm to table feast in the comfort of your own home!\n\nAdults $45\n\nKids 12 & Under $16\n\n*Plus tax & gratuity\n\nRestaurant.com Certificates cannot be used towards buffet.
X-ALT-DESC;FMTTYPE=text/html:<p>Join us at Veraisons for our inaugural Thanksgiving Day&nbsp\;<em>Dinner</em>! We invite you and your family to celebrate with us and enjoy three courses of chef-inspired Thanksgiving classics - with vegan and vegetarian options available! You&#39\;ll choose each course and enjoy all the flavors of the seasons with none of the stressful cleanup. A children&#39\;s menu will also be available for those 12 and under with less adventurous\, more classic palates.</p>\n\n<p><strong><em>NEW THIS YEAR!&nbsp\;</em></strong>&nbsp\;Get your Thanksgiving meal TO GO! Available by pre-order through 11/23\, enjoy a chef prepared\, farm to table feast in the comfort of your own home!</p>\n\n<p><strong>Adults</strong>&nbsp\;$45<br />\n<strong>Kids 12 &amp\; Under</strong>&nbsp\;$16<br />\n*Plus tax &amp\; gratuity</p>\n\n<p><em>Restaurant.com Certificates cannot be used towards buffet.</em></p>\n
LOCATION:Join us at Veraisons for our inaugural Thanksgiving Day Dinner! We invite you and your family to celebrate with us and enjoy three courses of chef-inspired Thanksgiving classics - with vegan and vegetarian options available! You'll choose each course and enjoy all the flavors of the seasons with none of the stressful cleanup. A children's menu will also be available for those 12 and under with less adventurous\, more classic palates. NEW THIS YEAR! Get your Thanksgiving meal TO GO! Available by pre-order through 11/23\, enjoy a chef prepared\, farm to table feast in the comfort of your own home! Adults $45 Kids 12 & Under $16 *Plus tax & gratuity Restaurant.com Certficates cannot be used towards buffet.
UID:e.248.20004
SEQUENCE:3
DTSTAMP:20260422T004303Z
URL:https://members.flxchamber.com/events/details/thanksgiving-dinner-at-veraisons-restaurant-20004
END:VEVENT

END:VCALENDAR
