BEGIN:VCALENDAR
VERSION:2.0
PRODID:-//ChamberMaster//Event Calendar 2.0//EN
METHOD:PUBLISH
X-PUBLISHED-TTL:P3D
REFRESH-INTERVAL:P3D
CALSCALE:GREGORIAN
BEGIN:VEVENT
DTSTART:20191122T121500Z
DTEND:20191122T130000Z
X-MICROSOFT-CDO-ALLDAYEVENT:FALSE
SUMMARY:Mind Trip
DESCRIPTION:
X-ALT-DESC;FMTTYPE=text/html:
LOCATION:BE MORE THAN FIT STUDIO 73 AVENUE E GENEVA
UID:e.248.10722
SEQUENCE:3
DTSTAMP:20260425T225122Z
URL:https://members.flxchamber.com/events/details/mind-trip-11-22-2019-10722
END:VEVENT

END:VCALENDAR
