BEGIN:VCALENDAR
VERSION:2.0
PRODID:-//ChamberMaster//Event Calendar 2.0//EN
METHOD:PUBLISH
X-PUBLISHED-TTL:P3D
REFRESH-INTERVAL:P3D
CALSCALE:GREGORIAN
BEGIN:VEVENT
DTSTART:20191108T121500Z
DTEND:20191108T130000Z
X-MICROSOFT-CDO-ALLDAYEVENT:FALSE
SUMMARY:Mind Trip
DESCRIPTION:
X-ALT-DESC;FMTTYPE=text/html:
LOCATION:BE MORE THAN FIT STUDIO 73 AVENUE E GENEVA
UID:e.248.10718
SEQUENCE:3
DTSTAMP:20260423T111951Z
URL:https://members.flxchamber.com/events/details/mind-trip-11-08-2019-10718
END:VEVENT

END:VCALENDAR
