BEGIN:VCALENDAR
VERSION:2.0
PRODID:-//ChamberMaster//Event Calendar 2.0//EN
METHOD:PUBLISH
X-PUBLISHED-TTL:P3D
REFRESH-INTERVAL:P3D
CALSCALE:GREGORIAN
BEGIN:VEVENT
DTSTART;VALUE=DATE:20071214
DTEND;VALUE=DATE:20071219
TRANSP:TRANSPARENT
X-MICROSOFT-CDO-ALLDAYEVENT:TRUE
SUMMARY:''It's a Wonderful Life''
DESCRIPTION:Just in time for the holidays\, "It's a Wonderful Life\," one of the most popular films ever made\, returns to the big screen.  Combine the characters\, the story\, the message\, and the acting\, and it's easy to see why "It's a Wonderful Life" isn't just a holiday favorite\, but a great movie by almost any standards. This black and white holiday classic is not rated and has a running time of two hours\, 12 minutes.
X-ALT-DESC;FMTTYPE=text/html:<div style="margin: 0in 0in 0pt"><font face="Comic Sans MS" color="#009933" size="3">Just in time for the holidays\, <font size="4"><strong>&quot\;It's a Wonderful Life\,&quot\;</strong></font> one of the most popular films ever made\, returns to the big screen.</font></div><div style="margin: 0in 0in 0pt"><font color="#009933"><font face="Comic Sans MS" size="3">&nbsp\;</font><font face="Comic Sans MS" size="3">&nbsp\;</font></font></div><div style="margin: 0in 0in 0pt"><font face="Comic Sans MS" color="#009933" size="3">Combine the characters\, the story\, the message\, and the acting\, and it's easy to see why <strong><font size="4">&ldquo\;It's a Wonderful Life&rdquo\;</font></strong> isn't just a holiday favorite\, but a great movie by almost any standards.</font></div><div style="margin: 0in 0in 0pt"><font face="Comic Sans MS" color="#009933" size="3">&nbsp\;</font></div><div><span style="font-size: 11pt"><font face="Comic Sans MS" color="#009933" size="3">This black and white holiday classic is not rated and has a running time of two hours\, 12 minutes. </font></span></div>
LOCATION:Smith Opera House82 Seneca St.Geneva\, NY
UID:e.248.1702
SEQUENCE:3
DTSTAMP:20260421T085433Z
URL:https://members.flxchamber.com/events/details/it-s-a-wonderful-life-12-14-2007-1702
END:VEVENT

END:VCALENDAR
