BEGIN:VCALENDAR
VERSION:2.0
PRODID:-//ChamberMaster//Event Calendar 2.0//EN
METHOD:PUBLISH
X-PUBLISHED-TTL:P3D
REFRESH-INTERVAL:P3D
CALSCALE:GREGORIAN
BEGIN:VEVENT
DTSTART:20230707T210000Z
DTEND:20230707T230000Z
X-MICROSOFT-CDO-ALLDAYEVENT:FALSE
SUMMARY:Billsboro Winery: Live Music with Michaell Reed
DESCRIPTION:Join us for First Fridays\, a monthly event happening on\, you guessed it - the first Friday of every month!\n\n \n\nKick back with a glass of wine and enjoy live music by Michaell Reed.\n\n \n\nNo need to make a reservation or worry about a cover charge - this event is free and open to all. So gather your friends or come solo to kickstart the weekend!
X-ALT-DESC;FMTTYPE=text/html:<div>Join us for First Fridays\, a monthly event happening on\, you guessed it - the first Friday of every month!<br />\n&nbsp\;</div>\n\n<div>Kick back with a glass of wine and enjoy live music by Michaell Reed.<br />\n&nbsp\;</div>\n\n<div>No need to make a reservation or worry about a cover charge - this event is free and open to all. So gather your friends or come solo to kickstart the weekend!</div>\n
LOCATION:
UID:e.248.20663
SEQUENCE:3
DTSTAMP:20260422T223646Z
URL:https://members.flxchamber.com/events/details/billsboro-winery-live-music-with-michaell-reed-20663
END:VEVENT

END:VCALENDAR
